BEGIN:VCALENDAR
VERSION:2.0
PRODID:-//jEvents 2.0 for Joomla//EN
CALSCALE:GREGORIAN
METHOD:PUBLISH
BEGIN:VEVENT
UID:597c6d1c3e416473b4af60caea5a78b5
CATEGORIES:Schutzhütte
CREATED:20240919T113026
SUMMARY:Private Feier
DESCRIPTION:
DTSTAMP:20260421T190620
DTSTART:20241005T140000
SEQUENCE:0
TRANSP:OPAQUE
END:VEVENT
END:VCALENDAR