BEGIN:VCALENDAR
VERSION:2.0
PRODID:-//jEvents 2.0 for Joomla//EN
CALSCALE:GREGORIAN
METHOD:PUBLISH
BEGIN:VEVENT
UID:705fb677a1fd43a53399ca202e92e402
CATEGORIES:Gemeindehaus
CREATED:20241107T205859
SUMMARY:Nikolaus
DESCRIPTION:
DTSTAMP:20260420T105541
DTSTART;VALUE=DATE:20241206
DTEND;VALUE=DATE:20241207
SEQUENCE:0
TRANSP:OPAQUE
END:VEVENT
END:VCALENDAR