BEGIN:VCALENDAR
VERSION:2.0
PRODID:-//jEvents 2.0 for Joomla//EN
CALSCALE:GREGORIAN
METHOD:PUBLISH
BEGIN:VEVENT
UID:3c2e3cf923eff6f8bd45cab2364ae59a
CATEGORIES:Schutzhütte
CREATED:20250114T113928
SUMMARY:Private Feier
DESCRIPTION:
DTSTAMP:20260419T160533
DTSTART;VALUE=DATE:20250705
DTEND;VALUE=DATE:20250707
SEQUENCE:0
TRANSP:OPAQUE
END:VEVENT
END:VCALENDAR