BEGIN:VCALENDAR
VERSION:2.0
PRODID:-//jEvents 2.0 for Joomla//EN
CALSCALE:GREGORIAN
METHOD:PUBLISH
BEGIN:VEVENT
UID:3452f2fe377805707ce8989f7d726121
CATEGORIES:Schutzhütte
CREATED:20250128T100208
SUMMARY:FFW Kalenborn
DESCRIPTION:
DTSTAMP:20260419T180326
DTSTART;VALUE=DATE:20251213
DTEND;VALUE=DATE:20251215
SEQUENCE:0
TRANSP:OPAQUE
END:VEVENT
END:VCALENDAR