BEGIN:VCALENDAR
VERSION:2.0
PRODID:-//jEvents 2.0 for Joomla//EN
CALSCALE:GREGORIAN
METHOD:PUBLISH
BEGIN:VEVENT
UID:b0cd6eaba50c5ee2e6cfcda012e7a390
CATEGORIES:Schutzhütte
CREATED:20251110T085928
SUMMARY:Private Feier
DESCRIPTION:
DTSTAMP:20260419T140528
DTSTART:20251212T070000
SEQUENCE:0
TRANSP:OPAQUE
END:VEVENT
END:VCALENDAR